BEGIN:VCALENDAR
VERSION:2.0
PRODID:-//vipul rikhi - ECPv5.2.0//NONSGML v1.0//EN
CALSCALE:GREGORIAN
METHOD:PUBLISH
X-WR-CALNAME:vipul rikhi
X-ORIGINAL-URL:https://vipulrikhi.com
X-WR-CALDESC:Events for vipul rikhi
BEGIN:VTIMEZONE
TZID:Asia/Kolkata
BEGIN:STANDARD
TZOFFSETFROM:+0530
TZOFFSETTO:+0530
TZNAME:IST
DTSTART:20200101T000000
END:STANDARD
END:VTIMEZONE
BEGIN:VEVENT
DTSTART;TZID=Asia/Kolkata:20200111T153000
DTEND;TZID=Asia/Kolkata:20200111T163000
DTSTAMP:20260421T080645
CREATED:20201016T085614Z
LAST-MODIFIED:20201228T073058Z
UID:1302-1578756600-1578760200@vipulrikhi.com
SUMMARY:Sufi-Nama: Stories & Songs from Kabir and other Sufis
DESCRIPTION:Sufi-Nama: Stories & Songs from Kabir & other Sufis11 January\, ‘Spoken’ Fest\, JioWorld Garden\, Mumbai \nIn this presentation\, Vipul Rikhi recounts stories from the Kabir and Sufi traditions\, and sings songs connected with the stories.
URL:https://vipulrikhi.com/event/sufi-nama-stories-songs-from-kabir-and-other-sufis/
LOCATION:JioWorld Garden\, Mumbai
ATTACH;FMTTYPE=image/jpeg:https://vipulrikhi.com/wp-content/uploads/2020/10/Spoken-fest-poster-filter-gbVad7.tmp_-e1609140652160.jpg
END:VEVENT
END:VCALENDAR