BEGIN:VCALENDAR
VERSION:2.0
PRODID:-//vipul rikhi - ECPv5.2.0//NONSGML v1.0//EN
CALSCALE:GREGORIAN
METHOD:PUBLISH
X-WR-CALNAME:vipul rikhi
X-ORIGINAL-URL:https://vipulrikhi.com
X-WR-CALDESC:Events for vipul rikhi
BEGIN:VTIMEZONE
TZID:UTC
BEGIN:STANDARD
TZOFFSETFROM:+0000
TZOFFSETTO:+0000
TZNAME:UTC
DTSTART:20170101T000000
END:STANDARD
END:VTIMEZONE
BEGIN:VEVENT
DTSTART;TZID=UTC:20171104T000000
DTEND;TZID=UTC:20171104T000000
DTSTAMP:20260422T123312
CREATED:20201016T065748Z
LAST-MODIFIED:20201016T065748Z
UID:1178-1509753600-1509753600@vipulrikhi.com
SUMMARY:Kabir on Strings
DESCRIPTION:
URL:https://vipulrikhi.com/event/kabir-on-strings/
LOCATION:The Mandrem House\, Mandrem\, Goa
ATTACH;FMTTYPE=image/png:https://vipulrikhi.com/wp-content/uploads/2020/10/mandrem-house-goa-concert-pHlsrg.tmp_.png
END:VEVENT
END:VCALENDAR